BEGIN:VCALENDAR
VERSION:2.0
PRODID:-//ChamberMaster//Event Calendar 2.0//EN
METHOD:PUBLISH
X-PUBLISHED-TTL:P3D
REFRESH-INTERVAL:P3D
CALSCALE:GREGORIAN
BEGIN:VEVENT
DTSTART:20220418T223000Z
DTEND:20220418T233000Z
X-MICROSOFT-CDO-ALLDAYEVENT:FALSE
SUMMARY:Womens 8 Week Sweat Bootcamp
DESCRIPTION:Women's 8 Week Sweat Bootcamp \n\nWhat to expect:\n\n20 minutes of cardio and strength training \n\n8 minutes of hard-hitting abs\n\n5 minute cool down and stretch
X-ALT-DESC;FMTTYPE=text/html:Women&#39\;s 8 Week Sweat Bootcamp&nbsp\;<br />\nWhat to expect:<br />\n20 minutes of cardio and strength training&nbsp\;<br />\n8 minutes of hard-hitting abs<br />\n5 minute cool down and stretch&nbsp\;<br />\n&nbsp\;
LOCATION:1905 S. Judson Fort Scott\, KS 66701
UID:e.2874.24381
SEQUENCE:3
DTSTAMP:20260425T172656Z
URL:https://fortscott.com/events/details/womens-8-week-sweat-bootcamp-04-18-2022-24381
END:VEVENT

END:VCALENDAR
