BEGIN:VCALENDAR
VERSION:2.0
PRODID:-//ChamberMaster//Event Calendar 2.0//EN
METHOD:PUBLISH
X-PUBLISHED-TTL:P3D
REFRESH-INTERVAL:P3D
CALSCALE:GREGORIAN
BEGIN:VEVENT
DTSTART;VALUE=DATE:20220514
DTEND;VALUE=DATE:20220515
TRANSP:TRANSPARENT
X-MICROSOFT-CDO-ALLDAYEVENT:TRUE
SUMMARY:World Migratory Bird Day - Fort Scott National Historic Site Kansas
DESCRIPTION:Fort Scott National Historic Site will host bird walks around the park.
X-ALT-DESC;FMTTYPE=text/html:Fort Scott National Historic Site will host bird walks around the park.
LOCATION:199 Old Fort Blvd.
UID:e.2874.22915
SEQUENCE:3
DTSTAMP:20260425T161604Z
URL:https://fortscott.com/events/details/world-migratory-bird-day-fort-scott-national-historic-site-kansas-22915
END:VEVENT

END:VCALENDAR
