BEGIN:VCALENDAR
VERSION:2.0
PRODID:-//ChamberMaster//Event Calendar 2.0//EN
METHOD:PUBLISH
X-PUBLISHED-TTL:P3D
REFRESH-INTERVAL:P3D
CALSCALE:GREGORIAN
BEGIN:VEVENT
DTSTART:20220507T143000Z
DTEND:20220507T170000Z
X-MICROSOFT-CDO-ALLDAYEVENT:FALSE
SUMMARY:Youth Fishing Derby hosted by the Elks at FSCC Lake
DESCRIPTION:Youth Fishing Derby hosted by the Elks at FSCC Lake\n\nRegistration 9:30am\n\nKids fish from 10am to noon
X-ALT-DESC;FMTTYPE=text/html:Youth Fishing Derby hosted by the Elks at FSCC Lake<br />\nRegistration 9:30am<br />\nKids fish from 10am to noon
LOCATION:
UID:e.2874.25072
SEQUENCE:3
DTSTAMP:20260425T161725Z
URL:https://fortscott.com/events/details/youth-fishing-derby-hosted-by-the-elks-at-fscc-lake-25072
END:VEVENT

END:VCALENDAR
