BEGIN:VCALENDAR
VERSION:2.0
PRODID:-//ChamberMaster//Event Calendar 2.0//EN
METHOD:PUBLISH
X-PUBLISHED-TTL:P3D
REFRESH-INTERVAL:P3D
CALSCALE:GREGORIAN
BEGIN:VEVENT
DTSTART:20231028T130000Z
DTEND:20231028T170000Z
X-MICROSOFT-CDO-ALLDAYEVENT:FALSE
SUMMARY:Youth Flag Football at Buck Run Community Center
DESCRIPTION:Youth Flag Football promotes physical fitness and teaches youngsters valuable football lessons about teamwork and fair play.\n\n\n\nGrades: 2nd - 3rd and 4th - 6th\n\nFee: $20.00 ($40.00 after deadline which is August 25th)
X-ALT-DESC;FMTTYPE=text/html:Youth Flag Football promotes physical fitness and teaches youngsters valuable football lessons about teamwork and fair play.<br />\n<br />\nGrades: 2nd - 3rd and 4th - 6th<br />\nFee: $20.00 ($40.00 after deadline which is August 25th)
LOCATION:
UID:e.2874.29549
SEQUENCE:3
DTSTAMP:20260421T131511Z
URL:https://fortscott.com/events/details/youth-flag-football-at-buck-run-community-center-10-28-2023-29549
END:VEVENT

END:VCALENDAR
